BEGIN:VCALENDAR
VERSION:2.0
PRODID:-//Florida Veterans for Common Sense - ECPv6.15.8//NONSGML v1.0//EN
CALSCALE:GREGORIAN
METHOD:PUBLISH
X-WR-CALNAME:Florida Veterans for Common Sense
X-ORIGINAL-URL:https://floridaveteransforcommonsense.org
X-WR-CALDESC:Events for Florida Veterans for Common Sense
REFRESH-INTERVAL;VALUE=DURATION:PT1H
X-Robots-Tag:noindex
X-PUBLISHED-TTL:PT1H
BEGIN:VTIMEZONE
TZID:UTC
BEGIN:STANDARD
TZOFFSETFROM:+0000
TZOFFSETTO:+0000
TZNAME:UTC
DTSTART:20250101T000000
END:STANDARD
END:VTIMEZONE
BEGIN:VEVENT
DTSTART;TZID=UTC:20260418T130000
DTEND;TZID=UTC:20260418T130000
DTSTAMP:20260419T125756
CREATED:20260415T193004Z
LAST-MODIFIED:20260415T193004Z
UID:10000053-1776517200-1776517200@floridaveteransforcommonsense.org
SUMMARY:Kayak Trips for Vets - April
DESCRIPTION:Return to FLVCS Calendar
URL:https://floridaveteransforcommonsense.org/event/kayak-trips-for-vets-april/
LOCATION:Neal Preserve\, 12301 Manatee Av W\, Bradenton\, FL\, 34209\, United States
CATEGORIES:Veterans
ATTACH;FMTTYPE=image/jpeg:https://floridaveteransforcommonsense.org/wp-content/uploads/2026/04/kayakers.jpg
ORGANIZER;CN="Wayne Douchkoff":MAILTO:wdouchkoff@aol.com
END:VEVENT
END:VCALENDAR